BEGIN:VCALENDAR
METHOD:PUBLISH
VERSION:2.0
PRODID:-//Board Meeting//Calendar//EN

BEGIN:VEVENT
SUMMARY:North Fulton | Board Meeting
DESCRIPTION:Monthly Board Meeting at First City Bank
X-ALT-DESC:<p>Monthly Board Meeting at First City Bank</p>
UID:Event8718
DTSTART:20251217T213000Z
DTEND:20251217T230000Z
DTSTAMP:20250702T183811Z
LAST-MODIFIED:20251202T062349Z
END:VEVENT

END:VCALENDAR