BEGIN:VCALENDAR
METHOD:PUBLISH
VERSION:2.0
PRODID:-//DG Official Visit//Calendar//EN

BEGIN:VEVENT
SUMMARY:South DeKalb County | DG Official Visit
DESCRIPTION:
X-ALT-DESC:<p><br></p>
UID:Event8925
DTSTART:20260122T230000Z
DTEND:20260123T000000Z
DTSTAMP:20250817T184055Z
LAST-MODIFIED:20250829T121442Z
END:VEVENT

END:VCALENDAR