BEGIN:VCALENDAR
METHOD:PUBLISH
VERSION:2.0
PRODID:-//DG Official Visit//Calendar//EN

BEGIN:VEVENT
SUMMARY:Pelham | DG Official Visit
DESCRIPTION:
X-ALT-DESC:
UID:Event8989
DTSTART:20260113T170000Z
DTEND:20260113T180000Z
DTSTAMP:20250829T121958Z
LAST-MODIFIED:20250829T121958Z
END:VEVENT

END:VCALENDAR