BEGIN:VCALENDAR
METHOD:PUBLISH
VERSION:2.0
PRODID:-//Greenway Mural Trail Paint Days//Calendar//EN

BEGIN:VEVENT
SUMMARY:North Fulton | Greenway Mural Trail Paint Days
DESCRIPTION:Base Camp will be at Rock Mill Park Parking Area - at the roundabout on Kimball Bridge Rd\, between North Point Parkway and Waters Road. Start time will be 8:00 am each day and will wrap up around 5 pm on Saturday. Sundays end time will depend on the various artists - some will finish earlier than others. 
X-ALT-DESC:<p>Base Camp will be at Rock Mill Park Parking Area - at the roundabout on Kimball Bridge Rd, between North Point Parkway and Waters Road.&nbsp;</p><p>Start time will be 8:00 am each day and will wrap up around 5 pm on Saturday. Sundays end time will depend on the various artists - some will finish earlier than others.&nbsp;</p>
UID:Event9017
DTSTART:20251004T120000Z
DTEND:20251005T040000Z
DTSTAMP:20250915T043646Z
LAST-MODIFIED:20250916T010955Z
END:VEVENT

END:VCALENDAR