BEGIN:VCALENDAR
METHOD:PUBLISH
VERSION:2.0
PRODID:-//Dinner for Wellstar North Fulton ER Nurses//Calendar//EN

BEGIN:VEVENT
SUMMARY:North Fulton | Dinner for Wellstar North Fulton ER Nurses
DESCRIPTION:We will deliver a BBQ dinner to the ER nurses at Wellstar North Fulton Hospital to show our appreciation for their care of our community. Volunteers will meet at the main entrance at 7:00 pm.
X-ALT-DESC:<p>We will deliver a BBQ dinner to the ER nurses at Wellstar North Fulton Hospital to show our appreciation for their care of our community. Volunteers will meet at the main entrance at 7:00 pm.</p>
UID:Event9052
DTSTART:20251007T230000Z
DTEND:20251007T233000Z
DTSTAMP:20251007T062545Z
LAST-MODIFIED:20251007T062545Z
END:VEVENT

END:VCALENDAR