BEGIN:VCALENDAR
METHOD:PUBLISH
VERSION:2.0
PRODID:-//Companion Club Meeting//Calendar//EN

BEGIN:VEVENT
SUMMARY:North Fulton | Companion Club Meeting
DESCRIPTION:Monthly meeting of Companion ClubLocation: Thrive Coworking\, 44 Milton Avenue\, Alpharetta GAContact: Chair Joseph Powell with any questions: (912) 662-2246
X-ALT-DESC:<p>Monthly meeting of Companion Club</p><p>Location: Thrive Coworking, 44 Milton Avenue, Alpharetta GA</p><p>Contact: Chair Joseph Powell with any questions: (912) 662-2246</p>
UID:Event9070
DTSTART:20251023T223000Z
DTEND:20251023T233000Z
DTSTAMP:20251014T230643Z
LAST-MODIFIED:20251021T164603Z
END:VEVENT

END:VCALENDAR