BEGIN:VCALENDAR
METHOD:PUBLISH
VERSION:2.0
PRODID:-//Peace Pole Installation at Wellstar North Fulton Hospital//Calendar//EN

BEGIN:VEVENT
SUMMARY:North Fulton | Peace Pole Installation at Wellstar North Fulton Hospital
DESCRIPTION:We will install a Peace Pole at Wellstar North Fulton Hospital.Please reach out to Rick Clark for further details: (704) 807-0083
X-ALT-DESC:<p>We will install a Peace Pole at Wellstar North Fulton Hospital.</p><p>Please reach out to Rick Clark for further details: (704) 807-0083</p>
UID:Event9071
DTSTART:20251206T143000Z
DTEND:20251206T163000Z
DTSTAMP:20251014T230828Z
LAST-MODIFIED:20251104T080947Z
END:VEVENT

END:VCALENDAR