BEGIN:VCALENDAR
METHOD:PUBLISH
VERSION:2.0
PRODID:-//Companion Club Meeting//Calendar//EN

BEGIN:VEVENT
SUMMARY:North Fulton | Companion Club Meeting
DESCRIPTION:Monthly meeting of Companion ClubLocation: Thrive Coworking\, 44 Milton Avenue\, Alpharetta GAContact: Chair Joseph Powell with any questions: (912) 662-2246
X-ALT-DESC:<p>Monthly meeting of Companion Club</p><p>Location: Thrive Coworking, 44 Milton Avenue, Alpharetta GA</p><p>Contact: Chair Joseph Powell with any questions: (912) 662-2246</p>
UID:Event9073
DTSTART:20251120T233000Z
DTEND:20251121T003000Z
DTSTAMP:20251014T231103Z
LAST-MODIFIED:20251014T231103Z
END:VEVENT

END:VCALENDAR