BEGIN:VCALENDAR
METHOD:PUBLISH
VERSION:2.0
PRODID:-//North Park Peace Garden Work Day//Calendar//EN

BEGIN:VEVENT
SUMMARY:North Fulton | North Park Peace Garden Work Day
DESCRIPTION:We need 6-12 volunteers to do various tasks at North Park\, digging\, planting\, mulch spreading\, etc. Bring pickaxes and shovels! Actual time may be refined as we get closer to the date. Contact Steve Siders with questions: (678) 488-3545
X-ALT-DESC:<p>We need 6-12 volunteers to do various tasks at North Park, digging, planting, mulch spreading, etc. Bring pickaxes and shovels! Actual time may be refined as we get closer to the date.&nbsp;</p><p>Contact Steve Siders with questions: (678) 488-3545</p>
UID:Event9107
DTSTART:20251115T140000Z
DTEND:20251115T170000Z
DTSTAMP:20251021T060646Z
LAST-MODIFIED:20251021T060646Z
END:VEVENT

END:VCALENDAR