BEGIN:VCALENDAR
METHOD:PUBLISH
VERSION:2.0
PRODID:-//Classroom Cleaning at Children's Development Academy//Calendar//EN

BEGIN:VEVENT
SUMMARY:North Fulton | Classroom Cleaning at Children's Development Academy
DESCRIPTION:We plan to do a service project on MLK Day at Children's Development Academy. We will be sanitizing the classrooms to ensure a clean and healthy learning environment for both teachers and students.The time has not yet been determined - but will be updated as soon as we have that information.
X-ALT-DESC:<p>We plan to do a service project on MLK Day at Children's Development Academy. We will be sanitizing the classrooms to ensure a clean and healthy learning environment for both teachers and students.</p><p>The time has not yet been determined - but will be updated as soon as we have that information.</p>
UID:Event9181
DTSTART:20260119T050000Z
DTEND:20260119T050000Z
DTSTAMP:20251202T061536Z
LAST-MODIFIED:20251202T061536Z
END:VEVENT

END:VCALENDAR