BEGIN:VCALENDAR
METHOD:PUBLISH
VERSION:2.0
PRODID:-//Sabado Social: Good Vibes Only//Calendar//EN

BEGIN:VEVENT
SUMMARY:Atlanta Brasil | Sabado Social: Good Vibes Only
DESCRIPTION:This Saturday\, the Rotary Club of Atlanta Brasil is gathering for an evening of good conversation\, laughter\, and genuine connection. Rotarians\, families and friends will meet with prospective members. 
X-ALT-DESC:<p>This Saturday, the Rotary Club of Atlanta Brasil is gathering for an evening of good conversation, laughter, and genuine connection. Rotarians, families and friends will meet with prospective members.&nbsp;</p>
UID:Event9452
DTSTART:20260425T220000Z
DTEND:20260425T230000Z
DTSTAMP:20260422T002700Z
LAST-MODIFIED:20260422T002700Z
END:VEVENT

END:VCALENDAR